BEGIN:VCALENDAR
VERSION:2.0
PRODID:-//wp-events-plugin.com//6.6.1//EN
TZID:America/Denver
X-WR-TIMEZONE:America/Denver
BEGIN:VEVENT
UID:81@pieceloveandchocolate.com
DTSTART;TZID=America/Denver:20160604T100000
DTEND;TZID=America/Denver:20160604T130000
DTSTAMP:20160229T152907Z
URL:https://pieceloveandchocolate.com/classes/chocolate-cake-finishing-dec
 orating
SUMMARY:(Chocolate) Cake Finishing & Decorating! - Piece Love & Chocolate -
  4 Jun 16 10:00
DESCRIPTION:Hosted by Chefs Bev\, Genny &amp\; Sarah\n\nMust be 12 yrs or o
 lder\n\nIn this super fun class\, you will learn classic\, simple and not-
 so-simple techniques on how to finish\, garnish\, decorate and serve the p
 erfect cake. We discuss and demo ways to trouble shoot issues of baking\, 
 but the primary focus of this class is finish work. Included in the class 
 handout are many of our favorite cake\, filling and frosting recipes.\n\nE
 ach participant will start with their choice of white or dark chocolate ca
 ke layers and a variety of fillings and together we will build the foundat
 ion skills of torting\, damming\, crumb coating (have I lost you\, yet?!?)
  - you get the idea! We start with the basic construction\, and from there
  we move into exquisite finishes that will make you look and feel like a r
 ock star when you take your 8" masterpiece home. This is a great class for
  those that already know how to bake\, but would enjoy learning more about
  decorating. Many of the skills you will learn in this class can be applie
 d to many other baked goods and pastries. Cake... is only the beginning!\n
 \nIf you have any questions\, please give us a call (303) 449-4804. If th
 e class is full\, you may call us to be put on our waiting list for this c
 lass.\n\nDue to the planning and set-up of this class\, early registration
  is crucial. Late sign-up will not be allowed and registration will end fo
 r this class on Wednesday\, June 1st\, and a minimum of 5 participants is 
 needed to conduct this class – please sign-up early.\n\nAs with many of 
 our baking/chocolate classes\, we focus on methodology using only a handfu
 l of basic\, high quality ingredients. Learn simple techniques that will e
 nsure your dessert success time and time again.\n\n*As an added bonus and 
 thank-you\, we would like to extend a 15% discount off all in-store purcha
 ses (including all tools and ingredients) the day of the class. This does 
 not apply to future orders or classes. Our frequent buyer’s program does
  not apply to our classes.\n\nSign up on-line only\n\nIf you have any ques
 tions\, please give us a call (303) 449-4804. If the class is full\, you 
 may call us to be put on our waiting list.\n\nDue to the planning and set-
 up of this class\, early registration is crucial. Late sign-up will not be
  allowed and registration will end for this class on Wednesday\, June 1st\
 , and a minimum of 5 participants is needed to conduct this class – plea
 se sign-up early.\n\n&nbsp\;\n\n***This class requires a minimum booking o
 f 5 participants. In the event this class is canceled because we do not me
 et the minimum registration requirement\, you will be contacted no less th
 an 24 hours before the scheduled class start and a full refund for store c
 redit or a future class of choice based on availability will be issued bac
 k to you. For participants - a minimum of 48 hrs is requested for cancella
 tion and a full refund for store credit or a future class of choice based 
 on availability will be issued back to you. Any cancellation made with les
 s than a 48 hr notice before class start time will have no refund of any s
 ort. Thank-you for your understanding.\n\n&nbsp\;
ATTACH;FMTTYPE=image/jpeg:https://pieceloveandchocolate.com/wp-content/upl
 oads/2013/05/083.jpg
CATEGORIES:Baking Class
LOCATION:Piece Love & Chocolate\, 805 Pearl Street\, Boulder\, CO\, 80302\,
  United States
GEO:40.0168743;-105.28487949999999
X-APPLE-STRUCTURED-LOCATION;VALUE=URI;X-ADDRESS=805 Pearl Street\, Boulder\
 , CO\, 80302\, United States;X-APPLE-RADIUS=100;X-TITLE=Piece Love & Choco
 late:geo:40.0168743,-105.28487949999999
END:VEVENT
BEGIN:VTIMEZONE
TZID:America/Denver
X-LIC-LOCATION:America/Denver
BEGIN:DAYLIGHT
DTSTART:20160313T030000
TZOFFSETFROM:-0700
TZOFFSETTO:-0600
TZNAME:MDT
END:DAYLIGHT
END:VTIMEZONE
END:VCALENDAR