BEGIN:VCALENDAR
VERSION:2.0
PRODID:-//wp-events-plugin.com//6.6.1//EN
TZID:America/Denver
X-WR-TIMEZONE:America/Denver
BEGIN:VEVENT
UID:469@pieceloveandchocolate.com
DTSTART;TZID=America/Denver:20241229T110000
DTEND;TZID=America/Denver:20241229T140000
DTSTAMP:20241017T171230Z
URL:https://pieceloveandchocolate.com/classes/tasty-truffles-ganache-techn
 iques-16
SUMMARY:Tasty Truffles & Ganache Techniques - Piece Love & Chocolate - 29 D
 ec 24 11:00
DESCRIPTION:"Why are they called truffles?"\nConsidered an exotic specialty
 \, chocolate truffles have a rich dessert history. Learn how to use temper
 ed chocolate and make classic ganaches with simple garnishes that are sure
  to thrill you... and those you might choose to share them with.\nFour met
 hodologies:\nWith endless possibilities - classic ganache\, vegan ganache\
 , fruit puree ganache\, and liqueur infusions. From these 4 techniques\, t
 he class will create over 10 different flavors and take home\, not only mo
 re than 3 dozen truffles each\, but also the skills and know-how to recrea
 te them!\n\nAs with many of our baking/chocolate classes\, we focus on me
 thodology using only a handful of basic\, high quality ingredients. Learn
  simple techniques that will ensure your dessert success time and time aga
 in!
ATTACH;FMTTYPE=image/jpeg:https://pieceloveandchocolate.com/wp-content/upl
 oads/2017/05/plc-chocolate-truffles.jpg
CATEGORIES:Baking Class,Chocolate Classes
LOCATION:Piece Love & Chocolate\, 805 Pearl Street\, Boulder\, CO\, 80302\,
  United States
GEO:40.0168743;-105.28487949999999
X-APPLE-STRUCTURED-LOCATION;VALUE=URI;X-ADDRESS=805 Pearl Street\, Boulder\
 , CO\, 80302\, United States;X-APPLE-RADIUS=100;X-TITLE=Piece Love & Choco
 late:geo:40.0168743,-105.28487949999999
END:VEVENT
BEGIN:VTIMEZONE
TZID:America/Denver
X-LIC-LOCATION:America/Denver
BEGIN:STANDARD
DTSTART:20241103T010000
TZOFFSETFROM:-0600
TZOFFSETTO:-0700
TZNAME:MST
END:STANDARD
END:VTIMEZONE
END:VCALENDAR